BEGIN:VCALENDAR
VERSION:2.0
PRODID:-//ChamberMaster//Event Calendar 2.0//EN
METHOD:PUBLISH
X-PUBLISHED-TTL:P1H
REFRESH-INTERVAL:P1H
CALSCALE:GREGORIAN
BEGIN:VTIMEZONE
TZID:America/Chicago
BEGIN:DAYLIGHT
RRULE:FREQ=YEARLY;BYMONTH=3;BYDAY=2SU
DTSTART:20070101T000000
TZOFFSETFROM:-0600
TZOFFSETTO:-0500
TZNAME:Central Daylight Time
END:DAYLIGHT
BEGIN:STANDARD
RRULE:FREQ=YEARLY;BYMONTH=11;BYDAY=1SU
DTSTART:20070101T000000
TZOFFSETFROM:-0500
TZOFFSETTO:-0600
TZNAME:Central Standard Time
END:STANDARD
END:VTIMEZONE
BEGIN:VEVENT
DTSTART;TZID=America/Chicago:20260526T120000
DTEND;TZID=America/Chicago:20260526T130000
X-MICROSOFT-CDO-ALLDAYEVENT:FALSE
SUMMARY:Digital Transformation in Food Safety Webinar May 26\, 2026 12-1pm CDT
DESCRIPTION:Join Tanguy Etoga\, CEO and Founder of NORMEX\, for a practical session on how digital tools are reshaping food safety.Learn how automation reduces admin work\, improves traceability\, and strengthens preventive controls\, plus see a live software demo. Explore key trends like real-time monitoring\, AI-driven risk detection\, and evolving regulations.Key Takeaways:Discover why compliance alone isn't enough\, and how simple\, user-friendly systems drive real adoption.Leave with actionable insights and a clear roadmap to implement digital solutions without overwhelming your team. About our Presenter: Tanguy Etoga didn't set out to build just another tech company   he set out to change the way the food industry protects people. Early in his career\, buried deep in the daily grind of food safety compliance and operations\, he hit a wall. Mountains of audits\, supplier headaches\, and endless checklists made him question whether he could and should keep going.In that moment of overwhelm\, he realized something that redirected his whole life: food safety isn't a box to tick\, it's a responsibility to people whose lives depend on what ends up on their plates. That shift in mindset was pivotal. Tanguy committed to something bigger   making food safety simple\, proactive\, and deeply human. That drive led him to found NORMEX\, a software platform that takes food-safety and quality management out of binders and spreadsheets and puts it where it belongs: in real-time\, easily actionable workflows that protect consumers and empower teams. Under his guidance\, NORMEX has grown into a global partner to food businesses of all sizes\, helping teams not just meet regulations but embed safety as a core valueAt the heart of his work is a simple belief: every protective action a team takes echoes beyond the factory   it protects a stranger\, a neighbor\, a child. That's the promise he helps companies keep every single day
X-ALT-DESC;FMTTYPE=text/html:<!DOCTYPE html><html><head><title></title></head><body aria-disabled="false"><p>Join Tanguy Etoga\, CEO and Founder of NORMEX\, for a practical session on how digital tools are reshaping food safety.</p><p>Learn how automation reduces admin work\, improves traceability\, and strengthens preventive controls\, plus see a <strong fr-original-style="" style="font-weight: 700\;">live software demo</strong>. Explore key trends like real-time monitoring\, AI-driven risk detection\, and evolving regulations.</p><p><strong fr-original-style="" style="font-weight: 700\;">Key Takeaways:</strong></p><p>Discover why compliance alone isn&rsquo\;t enough\, and how simple\, user-friendly systems drive real adoption.</p><p>Leave with actionable insights and a clear roadmap to implement digital solutions without overwhelming your team.&nbsp\;</p><p><strong fr-original-style="" style="font-weight: 700\;">About our Presenter</strong>: Tanguy Etoga didn&rsquo\;t set out to build just another tech company &mdash\; he set out to change the way the food industry protects people. Early in his career\, buried deep in the daily grind of food safety compliance and operations\, he hit a wall. Mountains of audits\, supplier headaches\, and endless checklists made him question whether he could&mdash\;and should&mdash\;keep going.</p><p>In that moment of overwhelm\, he realized something that redirected his whole life: food safety isn&rsquo\;t a box to tick\, it&rsquo\;s a responsibility to people whose lives depend on what ends up on their plates. That shift in mindset was pivotal. Tanguy committed to something bigger &mdash\; making food safety simple\, proactive\, and deeply human.&nbsp\;</p><p>That drive led him to found NORMEX\, a software platform that takes food-safety and quality management out of binders and spreadsheets and puts it where it belongs: in real-time\, easily actionable workflows that protect consumers and empower teams. Under his guidance\, NORMEX has grown into a global partner to food businesses of all sizes\, helping teams not just meet regulations but embed safety as a core value</p><p>At the heart of his work is a simple belief: every protective action a team takes echoes beyond the factory &mdash\; it protects a stranger\, a neighbor\, a child. That&rsquo\;s the promise he helps companies keep every single day</p></body></html>
LOCATION:Winnipeg
UID:e.1534.1448238
SEQUENCE:3
DTSTAMP:20260422T121009Z
URL:https://members.foodbeveragemb.ca/eventscalendar/Details/digital-transformation-in-food-safety-webinar-may-26-2026-12-1pm-cdt-1715240?sourceTypeId=Hub
END:VEVENT
END:VCALENDAR
