BEGIN:VCALENDAR
VERSION:2.0
PRODID:-//ChamberMaster//Event Calendar 2.0//EN
METHOD:PUBLISH
X-PUBLISHED-TTL:P1H
REFRESH-INTERVAL:P1H
CALSCALE:GREGORIAN
BEGIN:VTIMEZONE
TZID:America/Chicago
BEGIN:DAYLIGHT
RRULE:FREQ=YEARLY;BYMONTH=3;BYDAY=2SU
DTSTART:20070101T000000
TZOFFSETFROM:-0600
TZOFFSETTO:-0500
TZNAME:Central Daylight Time
END:DAYLIGHT
BEGIN:STANDARD
RRULE:FREQ=YEARLY;BYMONTH=11;BYDAY=1SU
DTSTART:20070101T000000
TZOFFSETFROM:-0500
TZOFFSETTO:-0600
TZNAME:Central Standard Time
END:STANDARD
END:VTIMEZONE
BEGIN:VEVENT
DTSTART;TZID=America/Chicago:20260604T074500
DTEND;TZID=America/Chicago:20260604T160000
X-MICROSOFT-CDO-ALLDAYEVENT:FALSE
SUMMARY:FAB MB AGM and Meet-a-Retailer Event
DESCRIPTION:Annual General Meeting + Meet-a-Retailer Event\nPresented by FABMb and Manitoba Agriculture\nJune 4\, 7:45 am - 4:00 pm\nNorwood Hotel\n112 Marion Street\, Winnipeg\n\nFor this year's AGM\, we're putting our members and retailers in the spotlight   creating opportunities for you to connect directly with consumers\, buyers\, and decision makers.\n\nExclusive One-on-One Pitch Sessions\nReady to take your product to major retail? Brought to you by FABMb and Manitoba Agriculture\, you'll have the chance to pitch directly to retail buyers\, including representatives from Loblaws and Sobeys. These one-on-one sessions are designed to give you real access\, real feedback\, and a real pathway to getting your product on more shelves and onto more tables.These sessions are highly limited. Only FABMb members in good standing will be vetted for these exclusive sessions. Each meeting is 30 minutes\, giving you focused time to present your product.\n\nPlease note that all applicants will be subject to a vetting process prior to approval for participation in the pitch sessions. Additional details regarding the application process will be posted soon.Booth Opportunities\nIn addition to talking to retailers\, you can also showcase your products to a broader audience! Booth spaces are available during the event where you can promote your latest flavours\, connect directly with attendees\, and provide samples or sell your products on-site. Booths are $150.00 plus GST and are limited to 10 so act fast!\nContact Rhiana at rhianae@foodbeveragemb.ca to secure your spot.
X-ALT-DESC;FMTTYPE=text/html:<!DOCTYPE html><html><head><title></title></head><body aria-disabled="false"><p style="margin:0in\;line-height:150%\;"><strong fr-original-style="" style="font-weight: 700\;">Annual General Meeting + Meet-a-Retailer Event<br>Presented by FABMb and Manitoba Agriculture</strong><br><strong fr-original-style="" style="font-weight: 700\;">June 4\, 7:45 am - 4:00 pm<br>Norwood Hotel<br>112 Marion Street\, Winnipeg</strong><br><br>For this year&rsquo\;s AGM\, we&rsquo\;re putting our members and retailers in the spotlight &mdash\; creating opportunities for you to connect directly with consumers\, buyers\, and decision makers.<br><br><strong fr-original-style="" style="font-weight: 700\;">Exclusive One-on-One Pitch Sessions</strong><br>Ready to take your product to major retail? Brought to you by FABMb and Manitoba Agriculture\, you&rsquo\;ll have the chance to pitch directly to retail buyers\, including representatives from Loblaws and Sobeys. These one-on-one sessions are designed to give you real access\, real feedback\, and a real pathway to getting your product on more shelves&mdash\;and onto more tables.</p><p style="margin-top:7.5pt\;margin-right:0in\;       margin-bottom:7.5pt\;margin-left:0in\;line-height:150%\;">These sessions are highly limited. Only FABMb members in good standing will be vetted for these exclusive sessions. Each meeting is 30 minutes\, giving you focused time to present your product.<br><br>Please note that all applicants will be subject to a vetting process prior to approval for participation in the pitch sessions. Additional details regarding the application process will be posted soon.</p><p style="margin-top:7.5pt\;margin-right:0in\;       margin-bottom:7.5pt\;margin-left:0in\;line-height:150%\;"><strong fr-original-style="" style="font-weight: 700\;">Booth Opportunities</strong><br>In addition to talking to retailers\, you can also showcase your products to a broader audience! Booth spaces are available during the event where you can promote your latest flavours\, connect directly with attendees\, and provide samples or sell your products on-site. Booths are $150.00 plus GST and are limited to 10 so act fast!<br>Contact Rhiana at <a fr-original-style="" href="mailto:rhianae@foodbeveragemb.ca" style="user-select: auto\;">rhianae@foodbeveragemb.ca</a> to secure your spot.</p></body></html>
LOCATION:112 Marion St Winnipeg R2H 0T1
UID:e.1534.1421543
SEQUENCE:3
DTSTAMP:20260422T120953Z
URL:https://members.foodbeveragemb.ca/eventscalendar/Details/fab-mb-agm-and-meet-a-retailer-event-1680795?sourceTypeId=Hub
END:VEVENT
END:VCALENDAR
