BEGIN:VCALENDAR
VERSION:2.0
PRODID:-//ChamberMaster//Event Calendar 2.0//EN
METHOD:PUBLISH
X-PUBLISHED-TTL:P1H
REFRESH-INTERVAL:P1H
CALSCALE:GREGORIAN
BEGIN:VTIMEZONE
TZID:America/Chicago
BEGIN:DAYLIGHT
RRULE:FREQ=YEARLY;BYMONTH=3;BYDAY=2SU
DTSTART:20070101T000000
TZOFFSETFROM:-0600
TZOFFSETTO:-0500
TZNAME:Central Daylight Time
END:DAYLIGHT
BEGIN:STANDARD
RRULE:FREQ=YEARLY;BYMONTH=11;BYDAY=1SU
DTSTART:20070101T000000
TZOFFSETFROM:-0500
TZOFFSETTO:-0600
TZNAME:Central Standard Time
END:STANDARD
END:VTIMEZONE
BEGIN:VEVENT
DTSTART;TZID=America/Chicago:20260609T093000
DTEND;TZID=America/Chicago:20260609T113000
X-MICROSOFT-CDO-ALLDAYEVENT:FALSE
SUMMARY:Good People\, Good Workplaces: See Beyond the Job Posting
DESCRIPTION:You've posted the same job three times this year. You've had people not show up after the first week. You're not sure what you're even allowed to ask in an interview anymore. Sound familiar?High turnover in food and beverage sector roles significantly drains your business\, and most of it is preventable. his free\, interactive session is designed to help you recruit more effectively\, interview with confidence\, and onboard new hires in a way that actually reduces turnover. You'll walk away with tools you can use right away.We'll also introduce a new job matching initiative connecting FAB MB members with local\, work-ready candidates. More details to come. Pull up a chair. Good conversation\, real tools\, and yes\, coffee's on us.Facilitated by Natalie Bell\, People + Culture Consultant Tuesday\, June 9\, 9:30   11:30 AM FAB MB Boardroom Light refreshments will be served. Space is limited.
X-ALT-DESC;FMTTYPE=text/html:<!DOCTYPE html><html><head><title></title></head><body aria-disabled="false"><p>You&#39\;ve posted the same job three times this year. You&#39\;ve had people not show up after the first week. You&#39\;re not sure what you&#39\;re even allowed to ask in an interview anymore. Sound familiar?</p><p>High turnover in food and beverage sector roles significantly drains your business\, and most of it is preventable. his free\, interactive session is designed to help you recruit more effectively\, interview with confidence\, and onboard new hires in a way that actually reduces turnover. You&#39\;ll walk away with tools you can use right away.</p><p>We&#39\;ll also introduce a new job matching initiative connecting FAB MB members with local\, work-ready candidates. More details to come. Pull up a chair. Good conversation\, real tools\, and yes\, coffee&#39\;s on us.</p><p>Facilitated by Natalie Bell\, People + Culture Consultant Tuesday\, June 9\, 9:30 &ndash\; 11:30 AM FAB MB Boardroom</p><p>&nbsp\;Light refreshments will be served. Space is limited.&nbsp\;</p></body></html>
LOCATION:2nd flr - 137 Bannatyne Avenue Winnipeg
UID:e.1534.1439423
SEQUENCE:3
DTSTAMP:20260422T120037Z
URL:https://members.foodbeveragemb.ca/eventscalendar/Details/good-people-good-workplaces-see-beyond-the-job-posting-1703890?sourceTypeId=Hub
END:VEVENT
END:VCALENDAR
