BEGIN:VCALENDAR
VERSION:2.0
PRODID:-//ChamberMaster//Event Calendar 2.0//EN
METHOD:PUBLISH
X-PUBLISHED-TTL:P1H
REFRESH-INTERVAL:P1H
CALSCALE:GREGORIAN
BEGIN:VTIMEZONE
TZID:America/Chicago
BEGIN:DAYLIGHT
RRULE:FREQ=YEARLY;BYMONTH=3;BYDAY=2SU
DTSTART:20070101T000000
TZOFFSETFROM:-0600
TZOFFSETTO:-0500
TZNAME:Central Daylight Time
END:DAYLIGHT
BEGIN:STANDARD
RRULE:FREQ=YEARLY;BYMONTH=11;BYDAY=1SU
DTSTART:20070101T000000
TZOFFSETFROM:-0500
TZOFFSETTO:-0600
TZNAME:Central Standard Time
END:STANDARD
END:VTIMEZONE
BEGIN:VEVENT
DTSTART;TZID=America/Chicago:20261007T170000
DTEND;TZID=America/Chicago:20261007T220000
X-MICROSOFT-CDO-ALLDAYEVENT:FALSE
SUMMARY:Manitoba Made Awards Gala 2026
DESCRIPTION:The Food and Beverage Award Gala is a prestigious event that celebrates excellence and innovation in the culinary and hospitality industries. Bringing together top chefs\, restaurateurs\, mixologists\, and industry professionals\, the gala honors outstanding achievements across categories such as fine dining\, sustainable practices\, beverage innovation\, and customer experience. The evening features an elegant ceremony\, gourmet cuisine\, and networking opportunities\, making it a highlight of the culinary calendar.
X-ALT-DESC;FMTTYPE=text/html:The Food and Beverage Award Gala is a prestigious event that celebrates excellence and innovation in the culinary and hospitality industries. Bringing together top chefs\, restaurateurs\, mixologists\, and industry professionals\, the gala honors outstanding achievements across categories such as fine dining\, sustainable practices\, beverage innovation\, and customer experience. The evening features an elegant ceremony\, gourmet cuisine\, and networking opportunities\, making it a highlight of the culinary calendar.
LOCATION:389 Main St. Winnipeg MB R3B3C2
UID:e.1534.1447385
SEQUENCE:3
DTSTAMP:20260422T120650Z
URL:https://members.foodbeveragemb.ca/eventscalendar/Details/manitoba-made-awards-gala-2026-1714322?sourceTypeId=Hub
END:VEVENT
END:VCALENDAR
