BEGIN:VCALENDAR
VERSION:2.0
PRODID:-//ChamberMaster//Event Calendar 2.0//EN
METHOD:PUBLISH
X-PUBLISHED-TTL:P1H
REFRESH-INTERVAL:P1H
CALSCALE:GREGORIAN
BEGIN:VTIMEZONE
TZID:America/Chicago
BEGIN:DAYLIGHT
RRULE:FREQ=YEARLY;BYMONTH=3;BYDAY=2SU
DTSTART:20070101T000000
TZOFFSETFROM:-0600
TZOFFSETTO:-0500
TZNAME:Central Daylight Time
END:DAYLIGHT
BEGIN:STANDARD
RRULE:FREQ=YEARLY;BYMONTH=11;BYDAY=1SU
DTSTART:20070101T000000
TZOFFSETFROM:-0500
TZOFFSETTO:-0600
TZNAME:Central Standard Time
END:STANDARD
END:VTIMEZONE
BEGIN:VEVENT
DTSTART;TZID=America/Chicago:20251029T090000
DTEND;TZID=America/Chicago:20251030T170000
X-MICROSOFT-CDO-ALLDAYEVENT:FALSE
SUMMARY:This class is FULL- Food HACCP Plan Development Online -2 days\, Oct 29-Oct 30 2025
DESCRIPTION:Registration Deadline: October 24\, 2024 - This class is now FULLThis 2-day in-depth course enables attendees to gain a practical understanding of Hazard Analysis Critical Control Points (HACCP)\, and learn how to develop and implement a HACCP system to meet customer and regulatory requirements. HACCP is the basis for all food safety management systems and the universally accepted tool to identify and eliminate food safety hazards. This course meets the formal HACCP training requirements for SQF\, BRC\, IFS\,FSSC 22000 and all other food safety standards and is approved by the International HACCP Alliance. Facilitated by Danni Kneeland-FSS
X-ALT-DESC;FMTTYPE=text/html:<!DOCTYPE html><html><head><title></title></head><body aria-disabled="false"><p>Registration Deadline: October 24\, 2024 - This class is now FULL</p><p>This 2-day in-depth course enables attendees to gain a practical understanding of Hazard Analysis Critical Control Points (HACCP)\, and learn how to develop and implement a HACCP system to meet customer and regulatory requirements. HACCP is the basis for all food safety management systems and the universally accepted tool to identify and eliminate food safety hazards. This course meets the formal HACCP training requirements for SQF\, BRC\, IFS\,FSSC 22000 and all other food safety standards and is approved by the International HACCP Alliance. Facilitated by Danni Kneeland-FSS</p></body></html>
LOCATION:Winnipeg MB
UID:e.1534.1195556
SEQUENCE:3
DTSTAMP:20260422T085827Z
URL:https://members.foodbeveragemb.ca/eventscalendar/Details/this-class-is-full-food-haccp-plan-development-online-2-days-oct-29-oct-30-2025-1395488?sourceTypeId=Hub
END:VEVENT
END:VCALENDAR
