BEGIN:VCALENDAR
VERSION:2.0
PRODID:-//ChamberMaster//Event Calendar 2.0//EN
METHOD:PUBLISH
X-PUBLISHED-TTL:P1H
REFRESH-INTERVAL:P1H
CALSCALE:GREGORIAN
BEGIN:VTIMEZONE
TZID:America/Chicago
BEGIN:DAYLIGHT
RRULE:FREQ=YEARLY;BYMONTH=3;BYDAY=2SU
DTSTART:20070101T000000
TZOFFSETFROM:-0600
TZOFFSETTO:-0500
TZNAME:Central Daylight Time
END:DAYLIGHT
BEGIN:STANDARD
RRULE:FREQ=YEARLY;BYMONTH=11;BYDAY=1SU
DTSTART:20070101T000000
TZOFFSETFROM:-0500
TZOFFSETTO:-0600
TZNAME:Central Standard Time
END:STANDARD
END:VTIMEZONE
BEGIN:VEVENT
DTSTART;TZID=America/Chicago:20260514T133000
DTEND;TZID=America/Chicago:20260514T150000
X-MICROSOFT-CDO-ALLDAYEVENT:FALSE
SUMMARY:You’re Invited: EDC Trade Support for Agrifood Exporters May 14\, 2026 1:30-3:00pm
DESCRIPTION:Registration deadline for this Free Event :  May 7\, 2026Export Development Canada (EDC) is pleased to invite you to an information session for food and beverage companies to learn how EDC can help you mitigate international risk\, strengthen cash flows\, and pursue growth opportunities beyond Canada.EDC is a Federal Crown Corporation that provides support to Canadian companies that are selling directly outside of Canada\, or a part of the value chain for Canadian exports.Session details: Date: 14 May 2026 Time: 1:30pm   3:00pm CDTFormat: Hybrid (in person + virtual) In-person location: 201 Portage Ave\, Winnipeg MB R3B 3N3 (Conference Centre- Concourse level)Virtual access:https://teams.microsoft.com/meet/240675155645288?p=MXpCnJlo4gLp7y3bSDCost: Free What we will cover: Welcome & EDC overview: who we are and how we support Canadian exportersManaging risk: tools to help manage non-payment risk and reduce uncertainty when entering new markets or selling internationallyWorking capital support: helping you secure financing to unlock more borrowing power\, free up cash and collateral to take on larger orders and expand your operations.Market expansion: market-entry support and trade insights to help you grow export sales with confidence Q&A (plus in-person networking for onsite attendees) Register early: Please register by May 7th to reserve your place. You can register through the link or by contacting Paige Lounsbury at plounsbury@edc.ca | 343-597-3540.
X-ALT-DESC;FMTTYPE=text/html:<!DOCTYPE html><html><head><title></title></head><body aria-disabled="false"><p><strong fr-original-style="" style="font-weight: 700\;">Registration deadline for this Free Event : &nbsp\;May 7\, 2026</strong></p><p>Export Development Canada (EDC) is pleased to invite you to an information session for food and beverage companies to learn how EDC can help you mitigate international risk\, strengthen cash flows\, and pursue growth opportunities beyond Canada.</p><p>EDC is a Federal Crown Corporation that provides support to Canadian companies that are selling directly outside of Canada\, or a part of the value chain for Canadian exports.</p><p><strong fr-original-style="" style="font-weight: 700\;">Session details: Date: 14 May 2026 Time: 1:30pm &ndash\; 3:00pm CDT</strong></p><p>Format: Hybrid (in person + virtual) In-person location: 201 Portage Ave\, Winnipeg MB R3B 3N3 (Conference Centre- Concourse level)</p><p>Virtual access:<a fr-original-style="" href="https://teams.microsoft.com/meet/240675155645288?p=MXpCnJlo4gLp7y3bSD" style="user-select: auto\;">https://teams.microsoft.com/meet/240675155645288?p=MXpCnJlo4gLp7y3bSD</a></p><p>Cost: Free&nbsp\;</p><p><strong fr-original-style="" style="font-weight: 700\;">What we will cover:</strong> Welcome &amp\; EDC overview: who we are and how we support Canadian exporters</p><p><span style="font-size: 14px\; color: rgb(0\, 0\, 0)\;">M</span>anaging risk: tools to help manage non-payment risk and reduce uncertainty when entering new markets or selling internationally</p><p>Working capital support: helping you secure financing to unlock more borrowing power\, free up cash and collateral to take on larger orders and expand your operations.</p><p>Market expansion: market-entry support and trade insights to help you grow export sales with confidence&nbsp\;</p><p>Q&amp\;A (plus in-person networking for onsite attendees)&nbsp\;</p><p>Register early: Please register by May 7th to reserve your place. You can register through the link or by contacting Paige Lounsbury at plounsbury@edc.ca | 343-597-3540.</p></body></html>
LOCATION:201 Portage Avenue Conference Centre\, Concourse Level Hybrid Option Winnipeg
UID:e.1534.1448002
SEQUENCE:3
DTSTAMP:20260422T115440Z
URL:https://members.foodbeveragemb.ca/eventscalendar/Details/you-re-invited-edc-trade-support-for-agrifood-exporters-may-14-2026-1-30-3-00pm-1714955?sourceTypeId=Hub
END:VEVENT
END:VCALENDAR
